BEGIN:VCALENDAR
VERSION:2.0
PRODID:-//Knights of Columbus - Council #591 - ECPv6.15.20//NONSGML v1.0//EN
CALSCALE:GREGORIAN
METHOD:PUBLISH
X-WR-CALNAME:Knights of Columbus - Council #591
X-ORIGINAL-URL:https://kofc591.org
X-WR-CALDESC:Events for Knights of Columbus - Council #591
REFRESH-INTERVAL;VALUE=DURATION:PT1H
X-Robots-Tag:noindex
X-PUBLISHED-TTL:PT1H
BEGIN:VTIMEZONE
TZID:UTC
BEGIN:STANDARD
TZOFFSETFROM:+0000
TZOFFSETTO:+0000
TZNAME:UTC
DTSTART:20230101T000000
END:STANDARD
END:VTIMEZONE
BEGIN:VEVENT
DTSTART;TZID=UTC:20250308T070000
DTEND;TZID=UTC:20250308T081500
DTSTAMP:20260425T010218
CREATED:20250127T042201Z
LAST-MODIFIED:20250127T042418Z
UID:2304-1741417200-1741421700@kofc591.org
SUMMARY:KofC Cor: That Man Is You! - "The Mystery of the Holy Family"
DESCRIPTION:That Man Is You is one of the ways in which Knights can grow spiritually as men of faith!  You are invited to join TMIY every Saturday morning at 7:00 a.m. in the St. Joseph Hall! \nThe topic for this event is The Mystery of the Holy Family.
URL:https://kofc591.org/event/the-mystery-of-the-holy-family/
LOCATION:St. Joseph Hall (Fremont\, OH)\, 709 Croghan St\, Fremont\, OH\, 43420\, United States
CATEGORIES:Cor
ATTACH;FMTTYPE=image/png:https://kofc591.org/wp-content/uploads/TMIYPoster.png
END:VEVENT
BEGIN:VEVENT
DTSTART;TZID=UTC:20250306T193000
DTEND;TZID=UTC:20250306T210000
DTSTAMP:20260425T010218
CREATED:20250127T045536Z
LAST-MODIFIED:20250131T040518Z
UID:2323-1741289400-1741294800@kofc591.org
SUMMARY:KofC Cor: Men of Jesus the Christ - Men's Bible Study & Prayer Group
DESCRIPTION:Men of Jesus the Christ is one of the ways in which Knights can grow spiritually as men of faith!  You are invited to join MOJTC every Thursday evening at 7:30 p.m. in the meeting room of the Knights of Columbus Hall in Port Clinton\, Ohio!
URL:https://kofc591.org/event/kofc-cor-mojtc-6/
LOCATION:Knights of Columbus Hall (Port Clinton\, OH)\, 109 E Perry St A\, Port Clinton\, 43452\, United States
CATEGORIES:Cor
ATTACH;FMTTYPE=image/png:https://kofc591.org/wp-content/uploads/MOJTC.png
END:VEVENT
BEGIN:VEVENT
DTSTART;TZID=UTC:20250302T073000
DTEND;TZID=UTC:20250302T213000
DTSTAMP:20260425T010218
CREATED:20250218T002750Z
LAST-MODIFIED:20250218T002750Z
UID:2360-1740900600-1740951000@kofc591.org
SUMMARY:KofC 8 AM Mass @ Sacred Heart
DESCRIPTION:The Knights of Columbus Council #591 will be serving at the 8AM Mass at Sacred Heart Church (Fremont\, OH) on March 2nd.  We have enough members to cover the ministries for Mass. \nIf you’re able to assist with the doughnuts\, they would like us to arrive at 7:30 AM to familiarize ourselves with their setup. Please let us know if you can help (if you have not already done so). \nAdditionally\, it would be helpful if the ushers could arrive around 7:30 AM to begin welcoming the congregation. \nThank you for all your help!
URL:https://kofc591.org/event/kofc-8-am-mass-sacred-heart/
LOCATION:Sacred Heart Catholic Church (Fremont\, OH)\, 550 Smith Rd\, Fremont\, OH\, 43420\, United States
CATEGORIES:Sunday,Volunteer
ATTACH;FMTTYPE=image/png:https://kofc591.org/wp-content/uploads/cropped-Site_Icon.png
END:VEVENT
BEGIN:VEVENT
DTSTART;TZID=UTC:20250301T070000
DTEND;TZID=UTC:20250301T081500
DTSTAMP:20260425T010218
CREATED:20250127T041717Z
LAST-MODIFIED:20250127T041717Z
UID:2301-1740812400-1740816900@kofc591.org
SUMMARY:KofC Cor: That Man Is You! - "The Paradise of God"
DESCRIPTION:That Man Is You is one of the ways in which Knights can grow spiritually as men of faith!  You are invited to join TMIY every Saturday morning at 7:00 a.m. in the St. Joseph Hall! \nThe topic for this event is The Paradise of God.
URL:https://kofc591.org/event/kofc-cor-that-man-is-you-the-paradise-of-god/
LOCATION:St. Joseph Hall (Fremont\, OH)\, 709 Croghan St\, Fremont\, OH\, 43420\, United States
CATEGORIES:Cor
ATTACH;FMTTYPE=image/png:https://kofc591.org/wp-content/uploads/TMIYPoster.png
END:VEVENT
BEGIN:VEVENT
DTSTART;TZID=UTC:20250227T193000
DTEND;TZID=UTC:20250227T210000
DTSTAMP:20260425T010218
CREATED:20250127T045304Z
LAST-MODIFIED:20250131T035836Z
UID:2321-1740684600-1740690000@kofc591.org
SUMMARY:KofC Cor: Men of Jesus the Christ - Men's Bible Study & Prayer Group
DESCRIPTION:Men of Jesus the Christ is one of the ways in which Knights can grow spiritually as men of faith!  You are invited to join MOJTC every Thursday evening at 7:30 p.m. in the meeting room of the Knights of Columbus Hall in Port Clinton\, Ohio!
URL:https://kofc591.org/event/kofc-cor-mojtc-5/
LOCATION:Knights of Columbus Hall (Port Clinton\, OH)\, 109 E Perry St A\, Port Clinton\, 43452\, United States
CATEGORIES:Cor
ATTACH;FMTTYPE=image/png:https://kofc591.org/wp-content/uploads/MOJTC.png
END:VEVENT
BEGIN:VEVENT
DTSTART;TZID=UTC:20250220T193000
DTEND;TZID=UTC:20250220T210000
DTSTAMP:20260425T010218
CREATED:20250127T045057Z
LAST-MODIFIED:20250131T035745Z
UID:2319-1740079800-1740085200@kofc591.org
SUMMARY:KofC Cor: Men of Jesus the Christ - Men's Bible Study & Prayer Group
DESCRIPTION:Men of Jesus the Christ is one of the ways in which Knights can grow spiritually as men of faith!  You are invited to join MOJTC every Thursday evening at 7:30 p.m. in the meeting room of the Knights of Columbus Hall in Port Clinton\, Ohio!
URL:https://kofc591.org/event/kofc-cor-mojtc-4/
LOCATION:Knights of Columbus Hall (Port Clinton\, OH)\, 109 E Perry St A\, Port Clinton\, 43452\, United States
CATEGORIES:Cor
ATTACH;FMTTYPE=image/png:https://kofc591.org/wp-content/uploads/MOJTC.png
END:VEVENT
BEGIN:VEVENT
DTSTART;TZID=UTC:20250215T070000
DTEND;TZID=UTC:20250215T081500
DTSTAMP:20260425T010218
CREATED:20250127T041335Z
LAST-MODIFIED:20250127T041756Z
UID:2299-1739602800-1739607300@kofc591.org
SUMMARY:KofC Cor: That Man Is You! - "Finding Your Mission Field"
DESCRIPTION:That Man Is You is one of the ways in which Knights can grow spiritually as men of faith!  You are invited to join TMIY every Saturday morning at 7:00 a.m. in the St. Joseph Hall! \nThe topic for this event is Finding Your Mission Field.
URL:https://kofc591.org/event/finding-your-mission-field/
LOCATION:St. Joseph Hall (Fremont\, OH)\, 709 Croghan St\, Fremont\, OH\, 43420\, United States
CATEGORIES:Cor
ATTACH;FMTTYPE=image/png:https://kofc591.org/wp-content/uploads/TMIYPoster.png
END:VEVENT
BEGIN:VEVENT
DTSTART;TZID=UTC:20250213T193000
DTEND;TZID=UTC:20250213T210000
DTSTAMP:20260425T010218
CREATED:20250127T044851Z
LAST-MODIFIED:20250131T035653Z
UID:2317-1739475000-1739480400@kofc591.org
SUMMARY:KofC Cor: Men of Jesus the Christ - Men's Bible Study & Prayer Group
DESCRIPTION:Men of Jesus the Christ is one of the ways in which Knights can grow spiritually as men of faith!  You are invited to join MOJTC every Thursday evening at 7:30 p.m. in the meeting room of the Knights of Columbus Hall in Port Clinton\, Ohio!
URL:https://kofc591.org/event/kofc-cor-mojtc-3/
LOCATION:Knights of Columbus Hall (Port Clinton\, OH)\, 109 E Perry St A\, Port Clinton\, 43452\, United States
CATEGORIES:Cor
ATTACH;FMTTYPE=image/png:https://kofc591.org/wp-content/uploads/MOJTC.png
END:VEVENT
BEGIN:VEVENT
DTSTART;TZID=UTC:20250208T070000
DTEND;TZID=UTC:20250208T081500
DTSTAMP:20260425T010218
CREATED:20250127T040940Z
LAST-MODIFIED:20250127T040940Z
UID:2296-1738998000-1739002500@kofc591.org
SUMMARY:KofC Cor: That Man Is You! - "Spiritual Headship"
DESCRIPTION:That Man Is You is one of the ways in which Knights can grow spiritually as men of faith!  You are invited to join TMIY every Saturday morning at 7:00 a.m. in the St. Joseph Hall! \nThe topic for this event is Spiritual Headship.
URL:https://kofc591.org/event/spiritual-headship/
LOCATION:St. Joseph Hall (Fremont\, OH)\, 709 Croghan St\, Fremont\, OH\, 43420\, United States
CATEGORIES:Cor
ATTACH;FMTTYPE=image/png:https://kofc591.org/wp-content/uploads/TMIYPoster.png
END:VEVENT
BEGIN:VEVENT
DTSTART;TZID=UTC:20250206T193000
DTEND;TZID=UTC:20250206T203000
DTSTAMP:20260425T010218
CREATED:20250108T143537Z
LAST-MODIFIED:20250127T051741Z
UID:2255-1738870200-1738873800@kofc591.org
SUMMARY:February Council Meeting
DESCRIPTION:First Thursday of the Month in the St. Ann gym. See you there!
URL:https://kofc591.org/event/february-council-meeting/
LOCATION:St. Ann Catholic School (Fremont\, OH)\, 1021 W State St\, Fremont\, OH\, 43420\, United States
CATEGORIES:Council Meeting
ATTACH;FMTTYPE=image/png:https://kofc591.org/wp-content/uploads/cropped-Site_Icon.png
END:VEVENT
BEGIN:VEVENT
DTSTART;TZID=UTC:20250201T070000
DTEND;TZID=UTC:20250201T081500
DTSTAMP:20260425T010218
CREATED:20250127T040356Z
LAST-MODIFIED:20250127T041004Z
UID:2292-1738393200-1738397700@kofc591.org
SUMMARY:KofC Cor: That Man Is You! - "Biblical Masculinity"
DESCRIPTION:That Man Is You is one of the ways in which Knights can grow spiritually as men of faith!  You are invited to join TMIY every Saturday morning at 7:00 a.m. in the St. Joseph Hall! \nThe topic for this event is Biblical Masculinity.
URL:https://kofc591.org/event/biblical-masculinity/
LOCATION:St. Joseph Hall (Fremont\, OH)\, 709 Croghan St\, Fremont\, OH\, 43420\, United States
CATEGORIES:Cor
ATTACH;FMTTYPE=image/png:https://kofc591.org/wp-content/uploads/TMIYPoster.png
END:VEVENT
BEGIN:VEVENT
DTSTART;TZID=UTC:20250130T193000
DTEND;TZID=UTC:20250130T210000
DTSTAMP:20260425T010218
CREATED:20250127T043634Z
LAST-MODIFIED:20250130T205008Z
UID:2309-1738265400-1738270800@kofc591.org
SUMMARY:KofC Cor: Men of Jesus the Christ - Men's Bible Study & Prayer Group
DESCRIPTION:Men of Jesus the Christ is one of the ways in which Knights can grow spiritually as men of faith!  You are invited to join MOJTC every Thursday evening at 7:30 p.m. at the Knights of Columbus Hall in Port Clinton\, Ohio!
URL:https://kofc591.org/event/kofc-cor-mojtc/
LOCATION:Knights of Columbus Hall (Port Clinton\, OH)\, 109 E Perry St A\, Port Clinton\, 43452\, United States
CATEGORIES:Cor
ATTACH;FMTTYPE=image/png:https://kofc591.org/wp-content/uploads/MOJTC.png
END:VEVENT
BEGIN:VEVENT
DTSTART;TZID=UTC:20250129T180000
DTEND;TZID=UTC:20250129T183000
DTSTAMP:20260425T010218
CREATED:20250127T051715Z
LAST-MODIFIED:20250127T051715Z
UID:2331-1738173600-1738175400@kofc591.org
SUMMARY:January Officer's Meeting
DESCRIPTION:We invite all officers to meet on 1/29 at 6pm at 512 Court St. Fremont\, Ohio to put together the agenda for the following weeks monthly meeting.
URL:https://kofc591.org/event/january-officers-meeting/
LOCATION:512 Court St. Fremont\, OH\, 512 Court St.\, Fremont\, OH\, 43420\, United States
CATEGORIES:Officers' Meeting
ATTACH;FMTTYPE=image/png:https://kofc591.org/wp-content/uploads/cropped-Site_Icon.png
END:VEVENT
BEGIN:VEVENT
DTSTART;TZID=UTC:20250104T160000
DTEND;TZID=UTC:20250104T173000
DTSTAMP:20260425T010218
CREATED:20250103T001404Z
LAST-MODIFIED:20250103T001404Z
UID:2252-1736006400-1736011800@kofc591.org
SUMMARY:KofC Mass @ Sacred Heart Catholic Church
DESCRIPTION:We are hosting the Mass at Sacred Heart Parish on Saturday\, January 4th at 4:00 PM. Your help would be greatly appreciated! \nAfter Mass\, we’d also like volunteers to stick around and help with Cookies in the gym.
URL:https://kofc591.org/event/kofc-mass-sacred-heart-catholic-church/
LOCATION:Sacred Heart Catholic Church (Fremont\, OH)\, 550 Smith Rd\, Fremont\, OH\, 43420\, United States
CATEGORIES:Volunteer
END:VEVENT
BEGIN:VEVENT
DTSTART;TZID=UTC:20250102T193000
DTEND;TZID=UTC:20250102T203000
DTSTAMP:20260425T010218
CREATED:20250103T000429Z
LAST-MODIFIED:20250103T000429Z
UID:2250-1735846200-1735849800@kofc591.org
SUMMARY:January Council Meeting
DESCRIPTION:First Thursday of the Month in the St. Ann gym. See you there!
URL:https://kofc591.org/event/january-council-meeting/
LOCATION:St. Ann Catholic School (Fremont\, OH)\, 1021 W State St\, Fremont\, OH\, 43420\, United States
END:VEVENT
BEGIN:VEVENT
DTSTART;TZID=UTC:20241207T160000
DTEND;TZID=UTC:20241208T183000
DTSTAMP:20260425T010218
CREATED:20241127T041612Z
LAST-MODIFIED:20241127T042026Z
UID:2239-1733587200-1733682600@kofc591.org
SUMMARY:KofC Diaper Drive
DESCRIPTION:Bins will be out in the main entry to St. Ann and the ramp area to St. Joseph Catholic Churches on December 7-8. \nMembers of our Council will be present at each Mass to collect donations for Heartbeat Hope Medical Pregnancy Center. \n \nContact Jim (if you can help at St. Ann) & Mike (if you can help out at St. Joe).
URL:https://kofc591.org/event/kofc-diaper-drive/
CATEGORIES:Volunteer
END:VEVENT
BEGIN:VEVENT
DTSTART;TZID=UTC:20241205T190000
DTEND;TZID=UTC:20241205T203000
DTSTAMP:20260425T010218
CREATED:20241127T043253Z
LAST-MODIFIED:20241127T043253Z
UID:2246-1733425200-1733430600@kofc591.org
SUMMARY:December Council Meeting
DESCRIPTION:For our December meeting we will be meeting at Our Lady of the Pines for a personal tour and education moment at 7 pm and immediately following at their location we will have a meeting.
URL:https://kofc591.org/event/december-council-meeting/
LOCATION:Our Lady of the Pines\, 1250 Tiffin St.\, Fremont\, OH\, 43420\, United States
CATEGORIES:Council Meeting
END:VEVENT
BEGIN:VEVENT
DTSTART;TZID=UTC:20241127T180000
DTEND;TZID=UTC:20241127T190000
DTSTAMP:20260425T010218
CREATED:20241127T042429Z
LAST-MODIFIED:20241127T042429Z
UID:2243-1732730400-1732734000@kofc591.org
SUMMARY:Officers' Meeting
DESCRIPTION:Brothers\, \nIf you are available for an officer’s meeting next Weds (11/27) at 6pm (yes I know it’s the night before Thanksgiving and Josh’s Birthday). But if you are available\, let’s meet at 6pm my office 512 Court St. Fremont\, OH to nail out the agenda for the following week. \nThank you\, \nMitchell
URL:https://kofc591.org/event/officers-meeting/
CATEGORIES:Officers' Meeting
END:VEVENT
BEGIN:VEVENT
DTSTART;TZID=UTC:20241003T193000
DTEND;TZID=UTC:20241003T203000
DTSTAMP:20260425T010218
CREATED:20231018T065513Z
LAST-MODIFIED:20240918T011550Z
UID:1967-1727983800-1727987400@kofc591.org
SUMMARY:October Council Meeting
DESCRIPTION:First Thursday of the Month in the St. Ann gym. See you there!
URL:https://kofc591.org/event/next-meeting/
LOCATION:St. Ann Catholic School (Fremont\, OH)\, 1021 W State St\, Fremont\, OH\, 43420\, United States
CATEGORIES:Council Meeting
END:VEVENT
BEGIN:VEVENT
DTSTART;TZID=UTC:20240420T160000
DTEND;TZID=UTC:20240428T173000
DTSTAMP:20260425T010218
CREATED:20240206T000113Z
LAST-MODIFIED:20240206T000443Z
UID:2088-1713628800-1714325400@kofc591.org
SUMMARY:Diaper Drive for Hope
DESCRIPTION:We will be having a diaper drive for the Hope Medical Pregnancy Center Fremont\, OH the last two weeks of April. There will be collection boxes out April 20/21 and April 27/28.
URL:https://kofc591.org/event/diaper-drive-for-hope/
CATEGORIES:Family Event
END:VEVENT
BEGIN:VEVENT
DTSTART;TZID=UTC:20240113T180000
DTEND;TZID=UTC:20240113T230000
DTSTAMP:20260425T010218
CREATED:20231226T034308Z
LAST-MODIFIED:20231226T034527Z
UID:2079-1705168800-1705186800@kofc591.org
SUMMARY:Catholic Family Game Night
DESCRIPTION:Your Family is invited to come play board games in the St. Joseph Catholic Church Hall in Fremont\, Ohio! \nIf you would like to bring a board game\, please register your game here so that we can add it to the list.  Remember that this is a family friendly event\, so games should be appropriate. \nThis event is hosted by a member of our council and If enough people are interested\, we plan to make this an annual event.  See you there!
URL:https://kofc591.org/event/catholic-family-game-night/
CATEGORIES:Family Event
END:VEVENT
END:VCALENDAR